BEGIN:VCALENDAR
VERSION:2.0
METHOD:PUBLISH
BEGIN:VEVENT
DTSTART:20201010T123000
DTEND:20201010T123000
LOCATION:Ack Umcs Chatka Żaka Radziszewskiego 16  Lublin
TRANSP: OPAQUE
SEQUENCE:0
UID:
DTSTAMP:20260426T001638Z
SUMMARY:Jachto- auto- stopem na wulkan
DESCRIPTION:Spotkanie podróżnicze odbywające się w ramach festiwalu Przez Świat. Spotkania z podróżą w ACK Chatka Żaka w Lublinie. Martynika to nasza brama na Karaiby. Dotarcie na nią było......
URL:https://app.evenea.pl/event/karaiby/
PRIORITY:1
CLASS:PUBLIC
END:VEVENT
END:VCALENDAR
