BEGIN:VCALENDAR
VERSION:2.0
METHOD:PUBLISH
BEGIN:VEVENT
DTSTART:20230727T090000
DTEND:20230728T160000
LOCATION:Regionalna Izba Gospodarcza w Katowicach ul. Opolska 15  40-084 Katowice
TRANSP: OPAQUE
SEQUENCE:0
UID:
DTSTAMP:20260421T183425Z
SUMMARY:Design Thinking - warsztaty dla menedżerów
DESCRIPTION:Jesteś przedsiębiorcą prowadzącym działalność na terenie Miasta Katowice? Masz szansę wziąć udział w cyklu bezpłatnych szkoleń online wartych kilka tysięcy złotych!Jak wiadomo - nie......
URL:https://app.evenea.pl/event/karpdesignthinking/
PRIORITY:1
CLASS:PUBLIC
END:VEVENT
END:VCALENDAR
