BEGIN:VCALENDAR
VERSION:2.0
METHOD:PUBLISH
BEGIN:VEVENT
DTSTART:20230724T090000
DTEND:20230725T160000
LOCATION:Regionalna Izba Gospodarcza w Katowicach ul. Opolska 15  40-084 Katowice
TRANSP: OPAQUE
SEQUENCE:0
UID:
DTSTAMP:20260421T194427Z
SUMMARY:Jak skutecznie komunikować się w social mediach
DESCRIPTION:Jesteś przedsiębiorcą prowadzącym działalność na terenie Miasta Katowice? Masz szansę wziąć udział w cyklu bezpłatnych szkoleń online wartych kilka tysięcy złotych!Jak wiadomo - nie......
URL:https://app.evenea.pl/event/karpsocialmedia/
PRIORITY:1
CLASS:PUBLIC
END:VEVENT
END:VCALENDAR
