BEGIN:VCALENDAR
VERSION:2.0
METHOD:PUBLISH
BEGIN:VEVENT
DTSTART:20251118T150000
DTEND:20251118T170000
LOCATION:Dąbrowski Inkubator Przedsiębiorczości Kolejowa 3  Dąbrowa Górnicza
TRANSP: OPAQUE
SEQUENCE:0
UID:
DTSTAMP:20260419T220750Z
SUMMARY:18.11 Biznesowa kawa z mentorem - Spotkanie indywidualne z Florianem
DESCRIPTION:☕ Biznesowa kawa z mentoremZapraszamy na wyjątkowe spotkanie w kameralnej atmosferze - 60 minut inspirującej rozmowy z doświadczonym przedsiębiorcą 1:1 To czas, w którym możesz swobodnie......
URL:https://app.evenea.pl/event/kawaflorian11/
PRIORITY:1
CLASS:PUBLIC
END:VEVENT
END:VCALENDAR
