BEGIN:VCALENDAR
VERSION:2.0
METHOD:PUBLISH
BEGIN:VEVENT
DTSTART:20240926T170000
DTEND:20240926T190000
LOCATION:Miejsce Otwarte. Centrum Integracji Międzykulturowej. Kraków os. Górali 24  Kraków
TRANSP: OPAQUE
SEQUENCE:0
UID:
DTSTAMP:20260423T053426Z
SUMMARY:Medytacyjne malowanie kawą | Meditative coffee painting | Медитативне малювання кавою
DESCRIPTION:Grupa wiekowa: kobiety i mamy z córkami 9+ latJęzyk prowadzenia: ukraiński, polskiPL: Zapraszamy na niezwykłe wydarzenie - Kawoterapię, dedykowaną kobietom i mamom z córkami, gdzie sztuka......
URL:https://app.evenea.pl/event/kawoterapia2609/
PRIORITY:1
CLASS:PUBLIC
END:VEVENT
END:VCALENDAR
