BEGIN:VCALENDAR
VERSION:2.0
METHOD:PUBLISH
BEGIN:VEVENT
DTSTART:20250401T100000
DTEND:20250401T120000
LOCATION:Kielecki Park Technologiczny, sala Dolina Krzemowa Ul. Olszewskiego 6, Budynek Orange  Kielce
TRANSP: OPAQUE
SEQUENCE:0
UID:
DTSTAMP:20260420T104853Z
SUMMARY:Kieleckie Dni Informatyki 2025 Blok I
DESCRIPTION:Nie daj się złamać - CYBERBEZPIECZEŃSTWO - Kieleckie Dni Informatyki 2025Już 1-2 kwietnia 2025 Kielce ponownie staną się centrum świata IT! Kieleckie Dni Informatyki to wyjątkowa......
URL:https://app.evenea.pl/event/kdi-2025-blok-i/
PRIORITY:1
CLASS:PUBLIC
END:VEVENT
END:VCALENDAR
