BEGIN:VCALENDAR
VERSION:2.0
METHOD:PUBLISH
BEGIN:VEVENT
DTSTART:20251014T083000
DTEND:20251014T161500
LOCATION:Uniwersytet Otwarty Uniwersytetu Warszawskiego ul. Dobra 55  Warszawa
TRANSP: OPAQUE
SEQUENCE:0
UID:
DTSTAMP:20260422T214009Z
SUMMARY:Kongres KEP 2025: 14 października 2025 r. (wtorek) - WARSZAWA
DESCRIPTION: Szanowne Koleżanki i Szanowni Koledzyzapraszamy do rejestracji udziału w Kongresie 5.KEP 2025,KEP 2025 jest kontynuatorem dorobku Kongresu Edukacji Pozaformalnej, a tegoroczne spotkanie......
URL:https://app.evenea.pl/event/kep2025-14102025/
PRIORITY:1
CLASS:PUBLIC
END:VEVENT
END:VCALENDAR
