BEGIN:VCALENDAR
VERSION:2.0
METHOD:PUBLISH
BEGIN:VEVENT
DTSTART:20231017T170000
DTEND:20231017T220000
LOCATION:Warszawa (szczegółowe miejsce spotkania w potwierdzeniu udziału)   
TRANSP: OPAQUE
SEQUENCE:0
UID:
DTSTAMP:20260421T022923Z
SUMMARY:Spotkanie inaugurujące program DESTINATION IT vol. 2 - Roche Informatics i #MamoPracujwIT
DESCRIPTION:Twoja przyszłość w IT zaczyna się teraz! Weź udział w spotkaniu 🡪 DESTINATION IT vol. 2Chcesz działać w IT i szukasz swojej ścieżki? Potrzebujesz indywidualnego wsparcia w rozwoju......
URL:https://app.evenea.pl/event/kick-off-destination-it-vol2/
PRIORITY:1
CLASS:PUBLIC
END:VEVENT
END:VCALENDAR
