BEGIN:VCALENDAR
VERSION:2.0
METHOD:PUBLISH
BEGIN:VEVENT
DTSTART:20241202T170000
DTEND:20241202T183000
LOCATION:Miejsce Otwarte. Centrum Integracji Międzykulturowej. Kraków os. Górali 24  Kraków
TRANSP: OPAQUE
SEQUENCE:0
UID:
DTSTAMP:20260423T163629Z
SUMMARY:Voguing: Taneczna Rewolucja | Voguing: the Dance Revolution | Вогінг: танцювальна революція
DESCRIPTION:Język prowadzenia: polskiPL/ENG/UAVoguing to więcej niż taniec - to styl życia i forma ekspresji, która przez lata stała się symbolem kultury LGBTQ+. Na tych zajęciach nauczysz się......
URL:https://app.evenea.pl/event/kiedys-tego-nie-bylo0212/
PRIORITY:1
CLASS:PUBLIC
END:VEVENT
END:VCALENDAR
