BEGIN:VCALENDAR
VERSION:2.0
METHOD:PUBLISH
BEGIN:VEVENT
DTSTART:20241104T170000
DTEND:20241104T183000
LOCATION:Miejsce Otwarte. Centrum Integracji Międzykulturowej. Kraków os. Górali 24  Kraków
TRANSP: OPAQUE
SEQUENCE:0
UID:
DTSTAMP:20260425T144138Z
SUMMARY:Spotkanie o tożsamościach płciowych | Meeting about gender identities | Зустріч про гендерні ідентичності
DESCRIPTION:Grupa wiekowa: 18+ lat Język prowadzenia: polskiPL/ENG/UAWyobraź sobie świat, w którym płeć to nie sztywne ramki, ale tęcza barw i odcieni. Świat, w którym każdy i każda może być......
URL:https://app.evenea.pl/event/kiedys-tego-nie-bylo0411/
PRIORITY:1
CLASS:PUBLIC
END:VEVENT
END:VCALENDAR
