BEGIN:VCALENDAR
VERSION:2.0
METHOD:PUBLISH
BEGIN:VEVENT
DTSTART:20241209T170000
DTEND:20241209T183000
LOCATION:Miejsce Otwarte. Centrum Integracji Międzykulturowej. Kraków os. Górali 24  Kraków
TRANSP: OPAQUE
SEQUENCE:0
UID:
DTSTAMP:20260423T163624Z
SUMMARY:Quiz Night: Kultowe Ikony i Historia | Quiz Night: Cult Icons and History | Вечір вікторин: Культові постаті та історія
DESCRIPTION:Język prowadzenia: polskiPL/ENG/UAMyślisz, że wiesz wszystko o queerowej kulturze? A może chcesz poszerzyć swoją wiedzę i dowiedzieć się więcej? Zapraszamy na quiz pełen pytań o kultowe......
URL:https://app.evenea.pl/event/kiedys-tego-nie-bylo0912/
PRIORITY:1
CLASS:PUBLIC
END:VEVENT
END:VCALENDAR
