BEGIN:VCALENDAR
VERSION:2.0
METHOD:PUBLISH
BEGIN:VEVENT
DTSTART:20241118T170000
DTEND:20241118T183000
LOCATION:Miejsce Otwarte. Centrum Integracji Międzykulturowej. Kraków os. Górali 24  Kraków
TRANSP: OPAQUE
SEQUENCE:0
UID:
DTSTAMP:20260425T144137Z
SUMMARY:Spotkanie o sojusznictwie | Meeting about allyship | Зустріч про союзництво
DESCRIPTION:Grupa wiekowa: 18+ lat Język prowadzenia: polskiPL/ENG/UAChcesz wspierać osoby LGBTQ+, ale nie wiesz, jak zacząć? To spotkanie jest dla Ciebie! Porozmawiamy o tym, co naprawdę oznacza......
URL:https://app.evenea.pl/event/kiedys-tego-nie-bylo1811/
PRIORITY:1
CLASS:PUBLIC
END:VEVENT
END:VCALENDAR
