BEGIN:VCALENDAR
VERSION:2.0
METHOD:PUBLISH
BEGIN:VEVENT
DTSTART:20241125T170000
DTEND:20241125T183000
LOCATION:Miejsce Otwarte. Centrum Integracji Międzykulturowej. Kraków os. Górali 24  Kraków
TRANSP: OPAQUE
SEQUENCE:0
UID:
DTSTAMP:20260423T163628Z
SUMMARY:Ziołowy Rytuał: Magia Kadzideł | Herbal Ritual: The Magic of Frankincense | Рослинний ритуал: магія кадил
DESCRIPTION:Język prowadzenia: polskiPL/ENG/UACzy zastanawiałeś się kiedyś, jak pachniały lasy dawnych Słowian? To spotkanie to prawdziwa podróż w przeszłość, gdzie poznasz sekrety tworzenia......
URL:https://app.evenea.pl/event/kiedys-tego-nie-bylo2511/
PRIORITY:1
CLASS:PUBLIC
END:VEVENT
END:VCALENDAR
