BEGIN:VCALENDAR
VERSION:2.0
METHOD:PUBLISH
BEGIN:VEVENT
DTSTART:20230907T190000
DTEND:20230907T190000
LOCATION:Scena Regionalnego Centrum Kultur Pogranicza Kolejowa 1  Krosno
TRANSP: OPAQUE
SEQUENCE:0
UID:
DTSTAMP:20260420T141146Z
SUMMARY:Kiedyś Ci opowiem, TEATR PRZEDMIEŚCIE, RZESZÓW (Nocne Teatralia Strachy)
DESCRIPTION:19:00Kiedyś Ci opowiem... - Teatr Przedmieście, Rzeszów /spektakl/miejsce: Scena Regionalnego Centrum Kultur Pogranicza, ul. Kolejowa 1Reżyseria, scenariusz i światło: Aneta......
URL:https://app.evenea.pl/event/kiedysciopowiem/
PRIORITY:1
CLASS:PUBLIC
END:VEVENT
END:VCALENDAR
