BEGIN:VCALENDAR
VERSION:2.0
METHOD:PUBLISH
BEGIN:VEVENT
DTSTART:20220826T210000
DTEND:20220826T210000
LOCATION:Ogrody Geyera Piotrkowska 293/305  Łódź
TRANSP: OPAQUE
SEQUENCE:0
UID:
DTSTAMP:20260421T014546Z
SUMMARY:Kino rowerowe Łódź
DESCRIPTION:Jakie masz plany na piątkowy wieczór? Spotkanie ze znajomymi, rower, a może dobry film? A co powiesz na kino rowerowe w plenerze, które połączy te wszystkie aktywności?Kino rowerowe to......
URL:https://app.evenea.pl/event/kinorowerowelodz/
PRIORITY:1
CLASS:PUBLIC
END:VEVENT
END:VCALENDAR
