BEGIN:VCALENDAR
VERSION:2.0
METHOD:PUBLISH
BEGIN:VEVENT
DTSTART:20220819T210000
DTEND:20220819T210000
LOCATION:Malta Poznań Wiankowa 3  Poznań
TRANSP: OPAQUE
SEQUENCE:0
UID:
DTSTAMP:20260425T142913Z
SUMMARY:Kino rowerowe Poznań
DESCRIPTION:⁸KJakie masz plany na piątkowy wieczór? Spotkanie ze znajomymi, rower, a może dobry film? A co powiesz na kino rowerowe w plenerze, które połączy te wszystkie aktywności?Kino rowerowe to......
URL:https://app.evenea.pl/event/kinorowerowepoznan/
PRIORITY:1
CLASS:PUBLIC
END:VEVENT
END:VCALENDAR
