BEGIN:VCALENDAR
VERSION:2.0
METHOD:PUBLISH
BEGIN:VEVENT
DTSTART:20220701T220000
DTEND:20220701T220000
LOCATION:Hala Stulecia ul. Wystawowa 1  Wrocław
TRANSP: OPAQUE
SEQUENCE:0
UID:
DTSTAMP:20260422T135924Z
SUMMARY:Kino rowerowe Wrocław
DESCRIPTION:Jakie masz plany na piątkowy wieczór? Spotkanie ze znajomymi, rower, a może dobry film? A co powiesz na kino rowerowe w plenerze, które połączy te wszystkie aktywności?Kino rowerowe to......
URL:https://app.evenea.pl/event/kinorowerowewroclaw/
PRIORITY:1
CLASS:PUBLIC
END:VEVENT
END:VCALENDAR
