BEGIN:VCALENDAR
VERSION:2.0
METHOD:PUBLISH
BEGIN:VEVENT
DTSTART:20210617T180000
DTEND:20210617T210000
LOCATION:Hotel Niebieski Art Hotel&SPA, Restauracja Vanilla Sky Flisacka 3  Kraków
TRANSP: OPAQUE
SEQUENCE:0
UID:
DTSTAMP:20260425T134539Z
SUMMARY:Klub Miasta Kobiet - Afirmacja życia
DESCRIPTION:33. spotkanie Klubu Miasta Kobiet: Aga SzuścikPo przerwie wracamy w wielkim stylu! Ponownie zobaczymy się w kobiecym gronie, poznamy fascynujące historie i techniki opanowywania trudnych emocji......
URL:https://app.evenea.pl/event/klub-miasta-kobiet-aga-szuscik/
PRIORITY:1
CLASS:PUBLIC
END:VEVENT
END:VCALENDAR
