BEGIN:VCALENDAR
VERSION:2.0
METHOD:PUBLISH
BEGIN:VEVENT
DTSTART:20250515T175500
DTEND:20250515T175500
LOCATION:Restauracja Sielsko Ul. Konna 14  Bydgoszcz
TRANSP: OPAQUE
SEQUENCE:0
UID:
DTSTAMP:20260422T140003Z
SUMMARY:Spotkanie na żywo klub 555 Bydgoszcz
DESCRIPTION: Co zyskasz po roku w Klubie 555?✅ będziesz bardziej zdyscyplinowany, pewniejszy siebie i skuteczniejszy w działaniu,✅ nauczysz nie zarządzać emocjami i energią, dzięki czemu osiągniesz......
URL:https://app.evenea.pl/event/klub555bydgoszcz/
PRIORITY:1
CLASS:PUBLIC
END:VEVENT
END:VCALENDAR
