BEGIN:VCALENDAR
VERSION:2.0
METHOD:PUBLISH
BEGIN:VEVENT
DTSTART:20240320T163000
DTEND:20240320T173000
LOCATION:Miejsce Otwarte. Centrum Integracji Międzykulturowej. Kraków os. Górali 24  Kraków
TRANSP: OPAQUE
SEQUENCE:0
UID:
DTSTAMP:20260423T050335Z
SUMMARY:Klub języka angielskiego z Loreną i Nouran 12+ | English speaking club with Lorena and Nouran 12+ | Розмовний клуб англійської мови з Лореною та Нуран 12+
DESCRIPTION:Grupa wiekowa: 14+ (dla nastolatków i dorosłych)Język prowadzenia: angielskiPL: Chcesz udoskonalić swój angielski rozmawiając na ciekawe tematy? Dołącz do naszych anglojęzycznych spotkań,......
URL:https://app.evenea.pl/event/klubangielskiego2003/
PRIORITY:1
CLASS:PUBLIC
END:VEVENT
END:VCALENDAR
