BEGIN:VCALENDAR
VERSION:2.0
METHOD:PUBLISH
BEGIN:VEVENT
DTSTART:20240206T160000
DTEND:20240206T180000
LOCATION:Centrum Edukacji i Wsparcia os. Górali 24  Kraków
TRANSP: OPAQUE
SEQUENCE:0
UID:
DTSTAMP:20260423T053324Z
SUMMARY:Klub rękodzieła - kosmetyki naturalne | Handicraft Club - natural cosmetics | Клуб рукоділля - натуральна косметика
DESCRIPTION:Grupa wiekowa: 13+Język prowadzenia: polskiPL | Zapraszamy na warsztaty przygotowywanie naturalnych soli do kąpieli i balsamu do ust. Podczas zajęć dowiesz się jakich składników użyć,......
URL:https://app.evenea.pl/event/klubrekodziela/
PRIORITY:1
CLASS:PUBLIC
END:VEVENT
END:VCALENDAR
