BEGIN:VCALENDAR
VERSION:2.0
METHOD:PUBLISH
BEGIN:VEVENT
DTSTART:20240319T160000
DTEND:20240319T180000
LOCATION:Centrum Edukacji i Wsparcia os. Górali 24  Kraków
TRANSP: OPAQUE
SEQUENCE:0
UID:
DTSTAMP:20260423T050346Z
SUMMARY:Klub rękodzieła - Ozdoby Wielkanocne | Handicraft club - Easter Decorations | Клуб рукоділля - Великодні прикраси
DESCRIPTION:Grupa wiekowa: 13+Język prowadzenia: polskiPL | Wielkanoc już niedługo! Jeśli jeszcze nie macie domu pełnego baranków i pisanek, zapraszamy do nas na warsztaty tworzenia ozdób wielkanocnych!......
URL:https://app.evenea.pl/event/klubrekodziela1903/
PRIORITY:1
CLASS:PUBLIC
END:VEVENT
END:VCALENDAR
