BEGIN:VCALENDAR
VERSION:2.0
METHOD:PUBLISH
BEGIN:VEVENT
DTSTART:20240423T160000
DTEND:20240423T180000
LOCATION:Centrum Edukacji i Wsparcia os. Górali 24  Kraków
TRANSP: OPAQUE
SEQUENCE:0
UID:
DTSTAMP:20260423T050346Z
SUMMARY:Klub rękodzieła - łapacze snów, część 2 | Handicraft club - dream catchers, part 2 | Клуб рукоділля - ловці снів, частина 2
DESCRIPTION:Grupa wiekowa: 13+Język prowadzenia: polskiPL | Złap swoje sny w Centrum Edukacji i Wsparcia! Już we wtorek, 9 kwietnia, w ramach klubu rękodzielnika wykonamy unikalne łapacze snów. Ozdoby......
URL:https://app.evenea.pl/event/klubrekodziela2304/
PRIORITY:1
CLASS:PUBLIC
END:VEVENT
END:VCALENDAR
