BEGIN:VCALENDAR
VERSION:2.0
METHOD:PUBLISH
BEGIN:VEVENT
DTSTART:20230214T173000
DTEND:20230214T173000
LOCATION:Chrześcijańska Szkoła i Przedszkole Montessori (uwaga! Nowy budynek) ul. Jagiellońska 5a  80-371 Gdańsk
TRANSP: OPAQUE
SEQUENCE:0
UID:
DTSTAMP:20260419T223026Z
SUMMARY:Małżeńskie KNOW HOW - walentynkowe spotkanie dla małżeństw
DESCRIPTION:Zapraszamy na spotkanie dla małżeństw w wieczór walentynkowy 2023! Małżeńskie KNOW HOW to zdecydowanie spotkanie dla Was, bez względu na to jaki staż małżeński za Wami!Wspólnie......
URL:https://app.evenea.pl/event/knowhow2023/
PRIORITY:1
CLASS:PUBLIC
END:VEVENT
END:VCALENDAR
