BEGIN:VCALENDAR
VERSION:2.0
METHOD:PUBLISH
BEGIN:VEVENT
DTSTART:20221115T180000
DTEND:20221115T180000
LOCATION:Sala Widowiskowa w Przedszkolu Słonecznym w Wasilkowie Polna 1/4  Wasilków
TRANSP: OPAQUE
SEQUENCE:0
UID:
DTSTAMP:20260421T022309Z
SUMMARY:"Kobieta z Wydm" - Teatr Polska w Wasilkowie
DESCRIPTION:"Kobieta z Wydm" - Teatr Polska w WasilkowieDnia 15 listopada (wtorek) 2022 roku w Przedszkolu Słonecznym (ul. Polna) odbędzie się spektakl teatralny "Kobieta z wydm" w wykonaniu Walnego Teatru.......
URL:https://app.evenea.pl/event/kobietazwydm/
PRIORITY:1
CLASS:PUBLIC
END:VEVENT
END:VCALENDAR
