BEGIN:VCALENDAR
VERSION:2.0
METHOD:PUBLISH
BEGIN:VEVENT
DTSTART:20250308T100000
DTEND:20250308T140000
LOCATION:Dom Kultury InnY Oświęcimska 87  Ruda Śląska 41-707
TRANSP: OPAQUE
SEQUENCE:0
UID:
DTSTAMP:20260419T235151Z
SUMMARY:Kobiety dla kobiet - warsztaty tematyczne z okazji dnia Kobiet
DESCRIPTION:Serdecznie zapraszamy na warsztaty z okazji DNIA KOBIET o tematyce "Kobiety dla Kobiet".Na spotkaniu spotkasz się z wieloma inspirującymi kobietami oraz będziesz miała możliwość wysłuchać......
URL:https://app.evenea.pl/event/kobietyczasstartk1/
PRIORITY:1
CLASS:PUBLIC
END:VEVENT
END:VCALENDAR
