BEGIN:VCALENDAR
VERSION:2.0
METHOD:PUBLISH
BEGIN:VEVENT
DTSTART:20240411T183000
DTEND:20240411T200000
LOCATION:Centrum Edukacji i Wsparcia os. Górali 24  Kraków
TRANSP: OPAQUE
SEQUENCE:0
UID:
DTSTAMP:20260423T053926Z
SUMMARY:Narkotyki bez paniki, czyli kilka słów o redukcji szkód | Drugs without panic, or a few words about harm reduction | Наркотики без паніки, або кілька слів про зменшення шкоди
DESCRIPTION:Grupa wiekowa: dla dorosłychJęzyk prowadzenia: polskiNarkotyki bez paniki, czyli kilka słów o redukcji szkódNa warsztatach porozmawiamy o tym jakie konsekwencje niesie za sobą przyjmowanie......
URL:https://app.evenea.pl/event/kobietyobjasniajaswiat1104/
PRIORITY:1
CLASS:PUBLIC
END:VEVENT
END:VCALENDAR
