BEGIN:VCALENDAR
VERSION:2.0
METHOD:PUBLISH
BEGIN:VEVENT
DTSTART:20240321T183000
DTEND:20240321T200000
LOCATION:Centrum Edukacji i Wsparcia os. Górali 24  Kraków
TRANSP: OPAQUE
SEQUENCE:0
UID:
DTSTAMP:20260423T050438Z
SUMMARY:Czy sukces posiada płeć?
DESCRIPTION:Grupa wiekowa: dla dorosłychJęzyk prowadzenia: polskiPL | Wokół sukcesu kobiet w popkulturze narosło wiele stereotypów i narracji. Jednak czy w XXI w. sukces zawodowy lub naukowy wciąż......
URL:https://app.evenea.pl/event/kobietyobjasniajaswiat2103/
PRIORITY:1
CLASS:PUBLIC
END:VEVENT
END:VCALENDAR
