BEGIN:VCALENDAR
VERSION:2.0
METHOD:PUBLISH
BEGIN:VEVENT
DTSTART:20240328T183000
DTEND:20240328T200000
LOCATION:Centrum Edukacji i Wsparcia os. Górali 24  Kraków
TRANSP: OPAQUE
SEQUENCE:0
UID:
DTSTAMP:20260423T053808Z
SUMMARY:Kobiety działają, kobiety zmieniają - czyli o oddolnym działaniu
DESCRIPTION:Grupa wiekowa: dla dorosłychJęzyk prowadzenia: polskiPL | Kobiety działają, kobiety zmieniają - czyli o oddolnym działaniuPodczas spotkania dowiecie się jak:zacząć działać nie znając......
URL:https://app.evenea.pl/event/kobietyobjasniajaswiat2803/
PRIORITY:1
CLASS:PUBLIC
END:VEVENT
END:VCALENDAR
