BEGIN:VCALENDAR
VERSION:2.0
METHOD:PUBLISH
BEGIN:VEVENT
DTSTART:20200620T100000
DTEND:20200620T113000
LOCATION:Miejskie Hale Targowe w Gdyni ul. Wójta Rdtkego 36  Gdynia
TRANSP: OPAQUE
SEQUENCE:0
UID:
DTSTAMP:20260421T114154Z
SUMMARY:Kokedama - sztuka Bonsai.
DESCRIPTION:Miejskie Hale Targowe w Gdyni zapraszają na kreatywny warsztat dekoratorski "Kokedama. Sztuka Bonsai". Spotkanie jest częścią wydarzenia Festiwalu Kwiatów - Flower Lovers.Czas: 20 czerwca 2020......
URL:https://app.evenea.pl/event/kokedama/
PRIORITY:1
CLASS:PUBLIC
END:VEVENT
END:VCALENDAR
