BEGIN:VCALENDAR
VERSION:2.0
METHOD:PUBLISH
BEGIN:VEVENT
DTSTART:20211218T180000
DTEND:20211218T190000
LOCATION:Szkoła Muzyczna I i II st. im. Zygmunta Noskowskiego w Gdyni Biskupa Dominika 13A  Gdynia
TRANSP: OPAQUE
SEQUENCE:0
UID:
DTSTAMP:20260424T190817Z
SUMMARY:Koncert świąteczny "Kolędujmy Razzlem" live i online!
DESCRIPTION:Zacznijmy razzlem przedświąteczne zamieszanie!Zapraszamy na koncert najpiękniejszych kolęd i piosenek świątecznych w wykonaniu Chóru "Razzle Dazzle", Orkiestry Smyczkowej oraz Orkiestry......
URL:https://app.evenea.pl/event/koledujmyrazzlem/
PRIORITY:1
CLASS:PUBLIC
END:VEVENT
END:VCALENDAR
