BEGIN:VCALENDAR
VERSION:2.0
METHOD:PUBLISH
BEGIN:VEVENT
DTSTART:20260410T090000
DTEND:20260411T210000
LOCATION:Cuprum Arena ul. Sikorskiego 20  Lubin
TRANSP: OPAQUE
SEQUENCE:0
UID:
DTSTAMP:20260419T203306Z
SUMMARY:Komikslandia w Twoim mieście: 2 dni w Lubinie!
DESCRIPTION:🔥Mieszkańcy Lubina i okolic, szykujcie się na epicki weekend! 🔥Komikslandia, kultowy sklep z centrum Warszawy, raj dla fanów anime i mangi, przyjeżdża do Was na 2 dni z minikonwentem......
URL:https://app.evenea.pl/event/komikslandia-w-lubinie/
PRIORITY:1
CLASS:PUBLIC
END:VEVENT
END:VCALENDAR
