BEGIN:VCALENDAR
VERSION:2.0
METHOD:PUBLISH
BEGIN:VEVENT
DTSTART:20251125T170000
DTEND:20251125T200000
LOCATION:Plus Jeden Poznań Za Bramką 1  Poznań
TRANSP: OPAQUE
SEQUENCE:0
UID:
DTSTAMP:20260422T131347Z
SUMMARY:#3 networking. Komunikacja lidera. Mów tak, aby chcieli Cię słuchać
DESCRIPTION:#3 networking. Komunikacja lidera. Mów tak, aby chcieli Cię słuchać📅 25 listopada 2025 r., godz. 17:00-20:00 📍 Plus Jeden, ul. Za Bramką 1, Poznań* 👤 Gość: Dawid GałatSkuteczna......
URL:https://app.evenea.pl/event/komunikacja-lidera-networking/
PRIORITY:1
CLASS:PUBLIC
END:VEVENT
END:VCALENDAR
