BEGIN:VCALENDAR
VERSION:2.0
METHOD:PUBLISH
BEGIN:VEVENT
DTSTART:20200917T110000
DTEND:20200917T110000
LOCATION:   
TRANSP: OPAQUE
SEQUENCE:0
UID:
DTSTAMP:20260425T005123Z
SUMMARY:Komunikacja dwukierunkowa  -  czy jak wprawić w ruch pracę zespołu ?
DESCRIPTION:Jak to jest, że mówisz, ma masz poczucie, że nie jesteś wysłuchany. Niby zespół Cię słucha, a i tak wykuje pracę po swojemu. Od lat na rynku królują szkolenia z komunikacji, a i tak .........
URL:https://app.evenea.pl/event/komunikacjadwukierunkowakopia1/
PRIORITY:1
CLASS:PUBLIC
END:VEVENT
END:VCALENDAR
