BEGIN:VCALENDAR
VERSION:2.0
METHOD:PUBLISH
BEGIN:VEVENT
DTSTART:20181006T100000
DTEND:20181006T120000
LOCATION:Startberry Warszawa (Praga Południe) ul. Grochowska 306/308  Warszawa
TRANSP: OPAQUE
SEQUENCE:0
UID:
DTSTAMP:20260425T175011Z
SUMMARY:(11 - 12 LAT) Jak mówić, żeby być zrozumianym. Warsztaty z komunikacji.
DESCRIPTION:\n\n	TEMAT: JAK MÓWIĆ, ŻEBY BYĆ ZROZUMIANYM - warsztaty dla dzieci 11-12 lat\n\n	Praktycznie warsztaty rozwijające umiejętność skutecznej komunikacji z innymi. Najważniejsza umiejętność......
URL:https://app.evenea.pl/event/komunikacjawarsztaty/
PRIORITY:1
CLASS:PUBLIC
END:VEVENT
END:VCALENDAR
