BEGIN:VCALENDAR
VERSION:2.0
METHOD:PUBLISH
BEGIN:VEVENT
DTSTART:20220526T183000
DTEND:20220526T183000
LOCATION:Instytut Cervantesa w Warszawie ul. Nowogrodzka 22  00-511 Warszawa
TRANSP: OPAQUE
SEQUENCE:0
UID:
DTSTAMP:20260422T052249Z
SUMMARY:"Z czasów Francisco Goi"- koncert muzyki gitarowej
DESCRIPTION:[PL] Zastanawialiśmy się, jaka muzyka była grana w czasach Goi. Zainspirowani jednym z jego obrazów "El majo de la guitarra" zorganizowaliśmy koncert hiszpańskiej muzyki gitarowej w wykonaniu......
URL:https://app.evenea.pl/event/koncertgoya/
PRIORITY:1
CLASS:PUBLIC
END:VEVENT
END:VCALENDAR
