BEGIN:VCALENDAR
VERSION:2.0
METHOD:PUBLISH
BEGIN:VEVENT
DTSTART:20201004T170000
DTEND:20201104T220000
LOCATION:Odessa Club Kolejowa 8/10  Warszawa
TRANSP: OPAQUE
SEQUENCE:0
UID:
DTSTAMP:20260420T134337Z
SUMMARY:Koncert Festiwal Kultura Nieponura 2020
DESCRIPTION:Kultura Nieponura to inicjatywa młodzieżowa, która już trzeci raz wpisuje się w warszawski kalendarz kulturalny. Początkowo dzieła młodych artystów mogliście oglądać w Bednarskiej......
URL:https://app.evenea.pl/event/koncertkn2020/
PRIORITY:1
CLASS:PUBLIC
END:VEVENT
END:VCALENDAR
