BEGIN:VCALENDAR
VERSION:2.0
METHOD:PUBLISH
BEGIN:VEVENT
DTSTART:20240515T093000
DTEND:20240515T133000
LOCATION:Galeria Sztuki Rzeczna Rzeczna 1  Rybnik
TRANSP: OPAQUE
SEQUENCE:0
UID:
DTSTAMP:20260424T155253Z
SUMMARY:Konferencja: "Ludzie, miejsca, pieniądze. Różne oblicza partycypacji."
DESCRIPTION:Konferencja "Ludzie, miejsca, pieniądze. Różne oblicza partycypacji" to wydarzenie otwarte, które ma gromadzić ludzi różnych środowisk, zainteresowanych partycypacją społeczną i......
URL:https://app.evenea.pl/event/konferencja-cris1/
PRIORITY:1
CLASS:PUBLIC
END:VEVENT
END:VCALENDAR
