BEGIN:VCALENDAR
VERSION:2.0
METHOD:PUBLISH
BEGIN:VEVENT
DTSTART:20251127T090000
DTEND:20251128T140000
LOCATION:Centrum Nauki Experyment aleja Zwycięstwa 96/98  Gdynia
TRANSP: OPAQUE
SEQUENCE:0
UID:
DTSTAMP:20260422T150856Z
SUMMARY:ScienceCom 2025 - Konferencja Młodych Naukowców
DESCRIPTION:Konferencja Młodych Naukowców w ramach wydarzenia ScienceCom 2025Konferencja odbędzie się w dniach 27-28 listopada 2025 w godzinach 9:00-14:00Zapraszamy studentów, studentki oraz uczniów i......
URL:https://app.evenea.pl/event/konferencja-mlodych-naukowcow-2025/
PRIORITY:1
CLASS:PUBLIC
END:VEVENT
END:VCALENDAR
