BEGIN:VCALENDAR
VERSION:2.0
METHOD:PUBLISH
BEGIN:VEVENT
DTSTART:20241206T180000
DTEND:20241206T200000
LOCATION:Hotel Ibis Styles Nowy Targ Kolejowa 165  Nowy Targ
TRANSP: OPAQUE
SEQUENCE:0
UID:
DTSTAMP:20260422T023326Z
SUMMARY:Konferencja Bliżej Natury - Podstawy Aromaterapii
DESCRIPTION:......
URL:https://app.evenea.pl/event/konferencjablizejnatury/
PRIORITY:1
CLASS:PUBLIC
END:VEVENT
END:VCALENDAR
