BEGIN:VCALENDAR
VERSION:2.0
METHOD:PUBLISH
BEGIN:VEVENT
DTSTART:20230307T090000
DTEND:20230307T180000
LOCATION:Airport Hotel Okęcie ul. Komitetu Obrony Robotników 24​  Warszawa
TRANSP: OPAQUE
SEQUENCE:0
UID:
DTSTAMP:20260422T140209Z
SUMMARY:Konferencja Top Woman Experience - Kobieta Przyszłości
DESCRIPTION:Konferencja "Top Woman Experience - KOBIETA PRZYSZŁOŚCI"\n\nSERDECZNIE ZAPRASZAMY NA WSPÓLNE ŚWIĘTOWANIE DNIA KOBIET W INSPIRUJĄCYM I ROZWIJAJĄCYM GRONIE!Już 7 marca 2023 zapraszamy do......
URL:https://app.evenea.pl/event/konferencjakobietaprzyszlosci/
PRIORITY:1
CLASS:PUBLIC
END:VEVENT
END:VCALENDAR
