BEGIN:VCALENDAR
VERSION:2.0
METHOD:PUBLISH
BEGIN:VEVENT
DTSTART:20241126T123000
DTEND:20241127T143000
LOCATION:Wydział Ekonomii, Finansów i Zarządzania Uniwersytetu Szczecińskiego Cukrowa 8  Szczecin
TRANSP: OPAQUE
SEQUENCE:0
UID:
DTSTAMP:20260422T125003Z
SUMMARY:Konferencja Naukowa "Zarządzanie Innowacjami w Gospodarce" oraz Konferencja Naukowa "Economy, Management, Environment"
DESCRIPTION:Celem IX Ogólnopolskiej Konferencji "Zarządzanie innowacjami w gospodarce" jest prezentacja współczesnych trendów i perspektyw rozwoju w zakresie zarządzania innowacjami na tle wyzwań......
URL:https://app.evenea.pl/event/konferencjakzp/
PRIORITY:1
CLASS:PUBLIC
END:VEVENT
END:VCALENDAR
