BEGIN:VCALENDAR
VERSION:2.0
METHOD:PUBLISH
BEGIN:VEVENT
DTSTART:20240403T093000
DTEND:20240403T143000
LOCATION:Urząd Marszałkowski Województwa Pomorskiego, Sala im. Lecha Bądkowskiego (Sala Okrągła) Okopowa 21/27  Gdańsk
TRANSP: OPAQUE
SEQUENCE:0
UID:
DTSTAMP:20260425T013215Z
SUMMARY:Pomorzanie. Jacy jesteśmy?
DESCRIPTION:Serdecznie zapraszamy na konferencję "Pomorzanie. Jacy jesteśmy?", która odbędzie się w środę 3 kwietnia w Urzędzie Marszałkowskim Województwa Pomorskiego.Konferencję, na której......
URL:https://app.evenea.pl/event/konferencjapomorzanie/
PRIORITY:1
CLASS:PUBLIC
END:VEVENT
END:VCALENDAR
