BEGIN:VCALENDAR
VERSION:2.0
METHOD:PUBLISH
BEGIN:VEVENT
DTSTART:20191116T100000
DTEND:20191116T164500
LOCATION:Uczelnia wyższa w Poznaniu | Collegium Da Vinci Poznań Kutrzeby 10  Poznań
TRANSP: OPAQUE
SEQUENCE:0
UID:
DTSTAMP:20260422T130242Z
SUMMARY:Konferencja o nastolatkach Poznań
DESCRIPTION:Fundacja Wychowanie w szacunku przyjeżdża do Poznania, by we współpracy z Fundacją Family-Lab Polska spotkać się z rodzicami, pedagogami i specjalistami pracującymi z młodzieżą na......
URL:https://app.evenea.pl/event/konferencjapoznan/
PRIORITY:1
CLASS:PUBLIC
END:VEVENT
END:VCALENDAR
