BEGIN:VCALENDAR
VERSION:2.0
METHOD:PUBLISH
BEGIN:VEVENT
DTSTART:20251210T170000
DTEND:20251210T170000
LOCATION:Płocki Park Przemysłowo-Technologiczny S.A. Łukasiewicza 39  Płock
TRANSP: OPAQUE
SEQUENCE:0
UID:
DTSTAMP:20260424T134108Z
SUMMARY:🎯 Konferencja otwierająca IV edycję programu Start in Park
DESCRIPTION:Już 10 grudnia o godz. 17:00 zapraszamy do Płockiego Parku Przemysłowo-Technologicznego S.A. na uroczystą inaugurację IV edycji programu Start in Park — inicjatywy wspierającej rozwój......
URL:https://app.evenea.pl/event/konferencjastartinpark/
PRIORITY:1
CLASS:PUBLIC
END:VEVENT
END:VCALENDAR
