BEGIN:VCALENDAR
VERSION:2.0
METHOD:PUBLISH
BEGIN:VEVENT
DTSTART:20200121T100000
DTEND:20200121T100000
LOCATION:Aula 2A, Szkoła Główna Turystyki i Hotelarstwa Stokłosy 3  Warszawa
TRANSP: OPAQUE
SEQUENCE:0
UID:
DTSTAMP:20260419T181440Z
SUMMARY:CSR Conference - The Nature of business
DESCRIPTION:PLKonferencja poświęcona będzie tematyce społecznej odpowiedzialności biznesu, a szczególnie zamierzamy poruszyć temat "Natura biznesu - czy w biznesie jest miejsce na naturę?". Główna......
URL:https://app.evenea.pl/event/konferencjatravelife/
PRIORITY:1
CLASS:PUBLIC
END:VEVENT
END:VCALENDAR
