BEGIN:VCALENDAR
VERSION:2.0
METHOD:PUBLISH
BEGIN:VEVENT
DTSTART:20230119T090000
DTEND:20230119T130000
LOCATION:Four Points by Sheraton Suwak 7B  Warszawa
TRANSP: OPAQUE
SEQUENCE:0
UID:
DTSTAMP:20260419T140253Z
SUMMARY:Konferencja "Nowe wyzwania dla Służewca"
DESCRIPTION:Rozpoczynający się właśnie 2023 rok zapowiada się dla branży nieruchomości jako pełen wyzwań, ale niepozbawiony szans. O tym, jak się na niego przygotować, rozmawiać będziemy podczas......
URL:https://app.evenea.pl/event/konfsluzewiec/
PRIORITY:1
CLASS:PUBLIC
END:VEVENT
END:VCALENDAR
