BEGIN:VCALENDAR
VERSION:2.0
METHOD:PUBLISH
BEGIN:VEVENT
DTSTART:20250228T090000
DTEND:20250228T090000
LOCATION:Powiatowe Centrum Kultury Fabryczka w Wołominie Orwida 20  Wołomin
TRANSP: OPAQUE
SEQUENCE:0
UID:
DTSTAMP:20260420T133930Z
SUMMARY:I KONGRES WŁAŚCICIELI FIRM SPRZĄTAJĄCYCH I PIORĄCYCH
DESCRIPTION:I Kongres Właścicieli Firm Sprzątających i Piorących - Zapraszamy!Z ogromną przyjemnością zapraszamy wszystkich właścicieli i przedstawicieli firm sprzątających oraz piorących na......
URL:https://app.evenea.pl/event/kongresfm/
PRIORITY:1
CLASS:PUBLIC
END:VEVENT
END:VCALENDAR
