BEGIN:VCALENDAR
VERSION:2.0
METHOD:PUBLISH
BEGIN:VEVENT
DTSTART:20231019T110000
DTEND:20231019T130000
LOCATION:STACJONARNIE (w Urzędzie Miasta Poznania przy Placu Kolegiackim 17) I ONLINE za pośrednictwem aplikacji Teams   
TRANSP: OPAQUE
SEQUENCE:0
UID:
DTSTAMP:20260423T105230Z
SUMMARY:KONSULTACJE SUMP METROPOLIA POZNAŃ WRAZ Z PROGNOZĄ ODDZIAŁYWANIA NA ŚRODOWISKO
DESCRIPTION:Konsultacje Społeczne "Planu Zrównoważonej Mobilności dla Metropolii Poznań wraz z Prognoza Oddziaływania na Środowisko". Zapraszamy wszystkich chętnych do udziału w spotkaniu......
URL:https://app.evenea.pl/event/konsultacje-spoleczne-metropolia-poznan-3etap/
PRIORITY:1
CLASS:PUBLIC
END:VEVENT
END:VCALENDAR
