BEGIN:VCALENDAR
VERSION:2.0
METHOD:PUBLISH
BEGIN:VEVENT
DTSTART:20250306T160000
DTEND:20250306T170000
LOCATION:online   
TRANSP: OPAQUE
SEQUENCE:0
UID:
DTSTAMP:20260419T210008Z
SUMMARY:Twój biznes w regionie DACH: Konsultacje by SpinLab
DESCRIPTION:Chcesz rozwijać swój biznes na rynkach niemieckojęzycznych? Skorzystaj z konsultacji ze SpinLab, które poprowadzi Tomasz Samul - ekspert w zakresie budowania partnerstw oraz pozyskiwania......
URL:https://app.evenea.pl/event/konsultacjedachmarzec25/
PRIORITY:1
CLASS:PUBLIC
END:VEVENT
END:VCALENDAR
